BEGIN:VCALENDAR
VERSION:2.0
PRODID:-// - ECPv6.15.20//NONSGML v1.0//EN
CALSCALE:GREGORIAN
METHOD:PUBLISH
X-ORIGINAL-URL:https://www.partyprodjs.com
X-WR-CALDESC:Events for 
REFRESH-INTERVAL;VALUE=DURATION:PT1H
X-Robots-Tag:noindex
X-PUBLISHED-TTL:PT1H
BEGIN:VTIMEZONE
TZID:UTC
BEGIN:STANDARD
TZOFFSETFROM:+0000
TZOFFSETTO:+0000
TZNAME:UTC
DTSTART:20160101T000000
END:STANDARD
END:VTIMEZONE
BEGIN:VEVENT
DTSTART;TZID=UTC:20170913T190000
DTEND;TZID=UTC:20170913T210000
DTSTAMP:20260423T214321
CREATED:20170901T072623Z
LAST-MODIFIED:20170901T072623Z
UID:272-1505329200-1505336400@www.partyprodjs.com
SUMMARY:Music Video Bingo @ Motzart's
DESCRIPTION:Live hosted Music Video Bingo. Free to play! Win cool stuff!
URL:https://www.partyprodjs.com/event/music-video-bingo-motzarts/
LOCATION:Mozarts Denver\, 1417 Krameria St\, Denver\, CO\, 80220
CATEGORIES:Music Video Bingo
ATTACH;FMTTYPE=image/png:https://www.partyprodjs.com/wp-content/uploads/2017/09/motzarts.png
END:VEVENT
BEGIN:VEVENT
DTSTART;TZID=UTC:20170912T200000
DTEND;TZID=UTC:20170912T220000
DTSTAMP:20260423T214321
CREATED:20170901T070314Z
LAST-MODIFIED:20170901T070410Z
UID:253-1505246400-1505253600@www.partyprodjs.com
SUMMARY:Music Video Bingo @ Brother's - Stapleton
DESCRIPTION:Live hosted Music Video Bingo. Free to play! Win cool stuff!
URL:https://www.partyprodjs.com/event/music-video-bingo-brothers-stapleton/
LOCATION:Brothers Bar & Grill – Stapleton\, 8270 E. Northfield Blvd\, Denver\, CO\, 80238
CATEGORIES:Music Video Bingo
ATTACH;FMTTYPE=image/jpeg:https://www.partyprodjs.com/wp-content/uploads/2017/08/brothers-e1507926104215.jpg
END:VEVENT
BEGIN:VEVENT
DTSTART;TZID=UTC:20170912T183000
DTEND;TZID=UTC:20170912T203000
DTSTAMP:20260423T214321
CREATED:20170901T065942Z
LAST-MODIFIED:20170901T070700Z
UID:249-1505241000-1505248200@www.partyprodjs.com
SUMMARY:Music Video Bingo @ Jackson's
DESCRIPTION:Live hosted Music Video Bingo. Free to play! Win cool stuff!
URL:https://www.partyprodjs.com/event/music-video-bingo-jacksons/
LOCATION:Jackson’s All-American Grill\, 7939 E Arapahoe Rd #190\, Greenwood Village\, CO\, 80112
CATEGORIES:Music Video Bingo
ATTACH;FMTTYPE=image/png:https://www.partyprodjs.com/wp-content/uploads/2017/08/Jacksons-Logo-300x1901.png
END:VEVENT
BEGIN:VEVENT
DTSTART;TZID=UTC:20170911T190000
DTEND;TZID=UTC:20170911T210000
DTSTAMP:20260423T214321
CREATED:20170901T064215Z
LAST-MODIFIED:20170901T065533Z
UID:241-1505156400-1505163600@www.partyprodjs.com
SUMMARY:Music Video Bingo @ Brothers - Lone Tree
DESCRIPTION:Live hosted Music Video Bingo. Free to play! Win great stuff!
URL:https://www.partyprodjs.com/event/music-video-bingo-brothers-lone-tree/
LOCATION:Brothers Bar & Grill – Lone Tree\, 7407 Park Meadows Dr.\, Lone Tree\, CO\, 80129
CATEGORIES:DJ Trivia,Music Video Bingo
ATTACH;FMTTYPE=image/jpeg:https://www.partyprodjs.com/wp-content/uploads/2017/08/brothers-e1507926104215.jpg
END:VEVENT
END:VCALENDAR