BEGIN:VCALENDAR
VERSION:2.0
PRODID:-// - ECPv6.15.20//NONSGML v1.0//EN
CALSCALE:GREGORIAN
METHOD:PUBLISH
X-ORIGINAL-URL:https://www.partyprodjs.com
X-WR-CALDESC:Events for 
REFRESH-INTERVAL;VALUE=DURATION:PT1H
X-Robots-Tag:noindex
X-PUBLISHED-TTL:PT1H
BEGIN:VTIMEZONE
TZID:UTC
BEGIN:STANDARD
TZOFFSETFROM:+0000
TZOFFSETTO:+0000
TZNAME:UTC
DTSTART:20160101T000000
END:STANDARD
END:VTIMEZONE
BEGIN:VEVENT
DTSTART;TZID=UTC:20171025T190000
DTEND;TZID=UTC:20171025T210000
DTSTAMP:20260423T161252
CREATED:20171026T034658Z
LAST-MODIFIED:20171026T034658Z
UID:374-1508958000-1508965200@www.partyprodjs.com
SUMMARY:DJ Trivia @ Hideaway Bar & Grill
DESCRIPTION:Play America’s favorite live-hosted trivia game and win prizes weekly. Come back and play under the same team name each week and you will be automatically entered into our league play where you can qualify to play in a playoff and eventually a championship tournament for CASH!
URL:https://www.partyprodjs.com/event/dj-trivia-hideaway-bar-grill/
LOCATION:Hideaway Bar and Grill\, 600 Jerry St\, Castle Rock\, CO\, 80104
CATEGORIES:DJ Trivia
ATTACH;FMTTYPE=image/png:https://www.partyprodjs.com/wp-content/uploads/2017/08/hideaway.png
END:VEVENT
BEGIN:VEVENT
DTSTART;TZID=UTC:20171025T183000
DTEND;TZID=UTC:20171025T203000
DTSTAMP:20260423T161252
CREATED:20171026T035526Z
LAST-MODIFIED:20171026T035526Z
UID:381-1508956200-1508963400@www.partyprodjs.com
SUMMARY:DJ Trivia @ The Rail Sports Pub
DESCRIPTION:Play America’s favorite live-hosted trivia game and win prizes weekly. Come back and play under the same team name each week and you will be automatically entered into our league play where you can qualify to play in a playoff and eventually a championship tournament for CASH!
URL:https://www.partyprodjs.com/event/dj-trivia-rail-sports-pub/
LOCATION:Rail Sports Pub\, 11800 Oswego St D10\, Englewood\, CO\, 80112
CATEGORIES:DJ Trivia
ATTACH;FMTTYPE=image/jpeg:https://www.partyprodjs.com/wp-content/uploads/2017/08/rail.jpg
END:VEVENT
BEGIN:VEVENT
DTSTART;TZID=UTC:20171013T200000
DTEND;TZID=UTC:20171013T220000
DTSTAMP:20260423T161252
CREATED:20171013T211930Z
LAST-MODIFIED:20171013T213627Z
UID:349-1507924800-1507932000@www.partyprodjs.com
SUMMARY:DJ Trivia - @ Bout Time Pub & Grub - Denver
DESCRIPTION:Play America’s favorite live-hosted trivia every week for your chance to win Frankie’s gift cards and accumulate points to qualify for our league tournament where we play for CASH!!
URL:https://www.partyprodjs.com/event/dj-trivia-bout-time-pub-grub-denver/
LOCATION:Bout Time Pub & Grub – Denver\, 3392 W 38th Ave\,\, Denver\, CO\, 80211
CATEGORIES:DJ Trivia
ATTACH;FMTTYPE=image/png:https://www.partyprodjs.com/wp-content/uploads/2017/08/Bout-Time-Pub-Logo-Wide.png
END:VEVENT
BEGIN:VEVENT
DTSTART;TZID=UTC:20171013T190000
DTEND;TZID=UTC:20171013T210000
DTSTAMP:20260423T161252
CREATED:20171013T211231Z
LAST-MODIFIED:20171013T211531Z
UID:343-1507921200-1507928400@www.partyprodjs.com
SUMMARY:DJ Trivia @ Frankie's Bar & Grill
DESCRIPTION:Play America’s favorite live-hosted trivia every week for your chance to win Frankie’s gift cards and accumulate points to qualify for our league tournament where we play for CASH!!
URL:https://www.partyprodjs.com/event/dj-trivia-frankies-bar-grill/
LOCATION:Frankie’s Bar & Grill\, 945 N Powers Blvd\, Colorado Springs\, CO\, 80915
CATEGORIES:DJ Trivia
ATTACH;FMTTYPE=image/jpeg:https://www.partyprodjs.com/wp-content/uploads/2017/08/frankies.jpg
END:VEVENT
BEGIN:VEVENT
DTSTART;TZID=UTC:20170916T190000
DTEND;TZID=UTC:20170916T210000
DTSTAMP:20260423T161252
CREATED:20170901T195729Z
LAST-MODIFIED:20170901T200041Z
UID:299-1505588400-1505595600@www.partyprodjs.com
SUMMARY:DJ Trivia @ Jackson's
DESCRIPTION:Live Hosted DJ Trivia
URL:https://www.partyprodjs.com/event/dj-trivia-jacksons/
LOCATION:Jackson’s All-American Grill\, 7939 E Arapahoe Rd #190\, Greenwood Village\, CO\, 80112
CATEGORIES:DJ Trivia
ATTACH;FMTTYPE=image/png:https://www.partyprodjs.com/wp-content/uploads/2017/08/Jacksons-Logo-300x1901.png
END:VEVENT
BEGIN:VEVENT
DTSTART;TZID=UTC:20170915T200000
DTEND;TZID=UTC:20170915T220000
DTSTAMP:20260423T161252
CREATED:20170901T195259Z
LAST-MODIFIED:20170901T200117Z
UID:295-1505505600-1505512800@www.partyprodjs.com
SUMMARY:DJ Trivia @ Bout Time - Denver
DESCRIPTION:Live Hosted DJ Trivia
URL:https://www.partyprodjs.com/event/dj-trivia-bout-time-denver/
LOCATION:Bout Time Pub & Grub – Denver\, 3392 W 38th Ave\,\, Denver\, CO\, 80211
CATEGORIES:DJ Trivia
ATTACH;FMTTYPE=image/png:https://www.partyprodjs.com/wp-content/uploads/2017/08/Bout-Time-Pub-Logo-Wide.png
END:VEVENT
BEGIN:VEVENT
DTSTART;TZID=UTC:20170915T190000
DTEND;TZID=UTC:20170915T210000
DTSTAMP:20260423T161252
CREATED:20170901T195011Z
LAST-MODIFIED:20170901T200143Z
UID:292-1505502000-1505509200@www.partyprodjs.com
SUMMARY:DJ Trivia @ Frankie's
DESCRIPTION:Live Hosted DJ Trivia
URL:https://www.partyprodjs.com/event/dj-trivia-frankies/
LOCATION:Frankie’s Bar & Grill\, 945 N Powers Blvd\, Colorado Springs\, CO\, 80915
CATEGORIES:DJ Trivia
ATTACH;FMTTYPE=image/jpeg:https://www.partyprodjs.com/wp-content/uploads/2017/08/frankies.jpg
END:VEVENT
BEGIN:VEVENT
DTSTART;TZID=UTC:20170914T193000
DTEND;TZID=UTC:20170914T213000
DTSTAMP:20260423T161252
CREATED:20170901T073705Z
LAST-MODIFIED:20170901T194831Z
UID:290-1505417400-1505424600@www.partyprodjs.com
SUMMARY:DJ Trivia @ Greenfields
DESCRIPTION:Live Hosted DJ Trivia
URL:https://www.partyprodjs.com/event/dj-trivia-greenfields/
LOCATION:Greenfield’s Pool & Sports Bar\, 3355 S Yarrow St\, Lakewood\, CO\, 80227
CATEGORIES:DJ Trivia
ATTACH;FMTTYPE=image/png:https://www.partyprodjs.com/wp-content/uploads/2017/09/greenfields.png
END:VEVENT
BEGIN:VEVENT
DTSTART;TZID=UTC:20170914T190000
DTEND;TZID=UTC:20170914T210000
DTSTAMP:20260423T161252
CREATED:20170901T073533Z
LAST-MODIFIED:20170901T073533Z
UID:288-1505415600-1505422800@www.partyprodjs.com
SUMMARY:DJ Trivia @ Brothers - Lone Tree
DESCRIPTION:Live Hosted DJ Trivia
URL:https://www.partyprodjs.com/event/dj-trivia-brothers-lone-tree/
LOCATION:Brothers Bar & Grill – Lone Tree\, 7407 Park Meadows Dr.\, Lone Tree\, CO\, 80129
CATEGORIES:DJ Trivia
ATTACH;FMTTYPE=image/jpeg:https://www.partyprodjs.com/wp-content/uploads/2017/08/brothers-e1507926104215.jpg
END:VEVENT
BEGIN:VEVENT
DTSTART;TZID=UTC:20170914T190000
DTEND;TZID=UTC:20170914T210000
DTSTAMP:20260423T161252
CREATED:20170901T073404Z
LAST-MODIFIED:20170901T073404Z
UID:286-1505415600-1505422800@www.partyprodjs.com
SUMMARY:DJ Trivia @ Boardroom
DESCRIPTION:Live Hosted DJ Trivia
URL:https://www.partyprodjs.com/event/dj-trivia-boardroom/
LOCATION:Boardroom Sportsbar & Steakhouse\, 51 W Dry Creek Ct\, Littleton\, CO\, 80120
CATEGORIES:DJ Trivia
ATTACH;FMTTYPE=image/jpeg:https://www.partyprodjs.com/wp-content/uploads/2017/09/boardroom.jpg
END:VEVENT
BEGIN:VEVENT
DTSTART;TZID=UTC:20170914T190000
DTEND;TZID=UTC:20170914T210000
DTSTAMP:20260423T161252
CREATED:20170901T073242Z
LAST-MODIFIED:20170901T073242Z
UID:283-1505415600-1505422800@www.partyprodjs.com
SUMMARY:DJ Trivia @ WestFax
DESCRIPTION:Live Hosted DJ Trivia
URL:https://www.partyprodjs.com/event/dj-trivia-westfax/
LOCATION:WestFax Brewing Company\, 6733 W Colfax Ave\, Lakewood\, CO\, 80214
CATEGORIES:DJ Trivia
ATTACH;FMTTYPE=image/png:https://www.partyprodjs.com/wp-content/uploads/2017/09/westfax.png
END:VEVENT
BEGIN:VEVENT
DTSTART;TZID=UTC:20170914T190000
DTEND;TZID=UTC:20170914T210000
DTSTAMP:20260423T161252
CREATED:20170901T073054Z
LAST-MODIFIED:20170901T073054Z
UID:278-1505415600-1505422800@www.partyprodjs.com
SUMMARY:DJ Trivia @ Rambling Rose
DESCRIPTION:Live Hosted DJ Trivia
URL:https://www.partyprodjs.com/event/dj-trivia-rambling-rose/
LOCATION:Rambling Rose Bar & Grill\, 10080 W 44th Ave\, Wheat Ridge\, CO\, 80033
CATEGORIES:DJ Trivia
ATTACH;FMTTYPE=image/jpeg:https://www.partyprodjs.com/wp-content/uploads/2017/09/rambling-rose.jpg
END:VEVENT
BEGIN:VEVENT
DTSTART;TZID=UTC:20170913T210000
DTEND;TZID=UTC:20170913T230000
DTSTAMP:20260423T161252
CREATED:20170901T072020Z
LAST-MODIFIED:20170901T072020Z
UID:268-1505336400-1505343600@www.partyprodjs.com
SUMMARY:DJ Trivia @ Brothers - Stapleton
DESCRIPTION:Live Hosted DJ Trivia
URL:https://www.partyprodjs.com/event/dj-trivia-brothers-stapleton/
LOCATION:Brothers Bar & Grill – Stapleton\, 8270 E. Northfield Blvd\, Denver\, CO\, 80238
CATEGORIES:DJ Trivia
ATTACH;FMTTYPE=image/jpeg:https://www.partyprodjs.com/wp-content/uploads/2017/08/brothers-e1507926104215.jpg
END:VEVENT
BEGIN:VEVENT
DTSTART;TZID=UTC:20170913T200000
DTEND;TZID=UTC:20170913T220000
DTSTAMP:20260423T161252
CREATED:20170901T071845Z
LAST-MODIFIED:20170901T071845Z
UID:266-1505332800-1505340000@www.partyprodjs.com
SUMMARY:DJ Trivia @ Bout Time - Sheridan
DESCRIPTION:Live Hosted DJ Trivia
URL:https://www.partyprodjs.com/event/dj-trivia-bout-time-sheridan/
LOCATION:Bout Time Pub & Grub – Sheridan\, 3580 S Platte River Dr A\, Sheridan\, CO\, 80110
CATEGORIES:DJ Trivia
ATTACH;FMTTYPE=image/png:https://www.partyprodjs.com/wp-content/uploads/2017/08/Bout-Time-Pub-Logo-Wide.png
END:VEVENT
BEGIN:VEVENT
DTSTART;TZID=UTC:20170913T190000
DTEND;TZID=UTC:20170913T210000
DTSTAMP:20260423T161252
CREATED:20170901T071535Z
LAST-MODIFIED:20170901T071535Z
UID:262-1505329200-1505336400@www.partyprodjs.com
SUMMARY:DJ Trivia @ Hideaway
DESCRIPTION:Live Hosted DJ Trivia
URL:https://www.partyprodjs.com/event/dj-trivia-hideaway/
LOCATION:Hideaway Bar and Grill\, 600 Jerry St\, Castle Rock\, CO\, 80104
CATEGORIES:DJ Trivia
ATTACH;FMTTYPE=image/png:https://www.partyprodjs.com/wp-content/uploads/2017/08/hideaway.png
END:VEVENT
BEGIN:VEVENT
DTSTART;TZID=UTC:20170913T190000
DTEND;TZID=UTC:20170913T210000
DTSTAMP:20260423T161252
CREATED:20170901T071302Z
LAST-MODIFIED:20170901T071302Z
UID:260-1505329200-1505336400@www.partyprodjs.com
SUMMARY:DJ Trivia @ Mountain Tap
DESCRIPTION:Live Hosted DJ Trivia
URL:https://www.partyprodjs.com/event/dj-trivia-mountain-tap/
LOCATION:Mountain Tap\, 1901 Youngfield St #101\, Golden\, CO\, 80401
CATEGORIES:DJ Trivia
ATTACH;FMTTYPE=image/jpeg:https://www.partyprodjs.com/wp-content/uploads/2017/08/mountain-tap.jpg
END:VEVENT
BEGIN:VEVENT
DTSTART;TZID=UTC:20170913T183000
DTEND;TZID=UTC:20170913T203000
DTSTAMP:20260423T161252
CREATED:20170901T071126Z
LAST-MODIFIED:20170901T071126Z
UID:258-1505327400-1505334600@www.partyprodjs.com
SUMMARY:DJ Trivia @ The Rail
DESCRIPTION:Live Hosted DJ Trivia
URL:https://www.partyprodjs.com/event/dj-trivia-the-rail/
LOCATION:Rail Sports Pub\, 11800 Oswego St D10\, Englewood\, CO\, 80112
CATEGORIES:DJ Trivia
ATTACH;FMTTYPE=image/jpeg:https://www.partyprodjs.com/wp-content/uploads/2017/08/rail.jpg
END:VEVENT
BEGIN:VEVENT
DTSTART;TZID=UTC:20170912T190000
DTEND;TZID=UTC:20170912T210000
DTSTAMP:20260423T161252
CREATED:20170901T065740Z
LAST-MODIFIED:20170901T070604Z
UID:247-1505242800-1505250000@www.partyprodjs.com
SUMMARY:DJ Trivia @ BC's Sports Tavern
DESCRIPTION:Live Hosted DJ Trivia
URL:https://www.partyprodjs.com/event/dj-trivia-bcs-sports-tavern/
LOCATION:BC’s Sports Pub\, 6501 W Mississippi Ave\, Lakewood\, CO\, 80226
CATEGORIES:DJ Trivia
ATTACH;FMTTYPE=image/jpeg:https://www.partyprodjs.com/wp-content/uploads/2017/08/bcs.jpg
END:VEVENT
BEGIN:VEVENT
DTSTART;TZID=UTC:20170912T190000
DTEND;TZID=UTC:20170912T210000
DTSTAMP:20260423T161252
CREATED:20170901T065511Z
LAST-MODIFIED:20170901T070630Z
UID:245-1505242800-1505250000@www.partyprodjs.com
SUMMARY:DJ Trivia @ Lodo's - Westminster
DESCRIPTION:Live Hosted DJ Trivia
URL:https://www.partyprodjs.com/event/dj-trivia-lodos-westminster/
LOCATION:Lodo’s – Westminster\, 3053 West 104th Avenue\, Westminster\, CO\, 80031
CATEGORIES:DJ Trivia
ATTACH;FMTTYPE=image/png:https://www.partyprodjs.com/wp-content/uploads/2017/08/lodos.png
END:VEVENT
BEGIN:VEVENT
DTSTART;TZID=UTC:20170912T190000
DTEND;TZID=UTC:20170912T210000
DTSTAMP:20260423T161252
CREATED:20170901T064357Z
LAST-MODIFIED:20170901T064357Z
UID:243-1505242800-1505250000@www.partyprodjs.com
SUMMARY:DJ Trivia @ Lodo's - Highlands Ranch
DESCRIPTION:Live Hosted DJ Trivia
URL:https://www.partyprodjs.com/event/dj-trivia-lodos-highlands-ranch/
LOCATION:Lodo’s – Highlands Ranch\, 8545 South Quebec Street\, Highlands Ranch\, CO\, 80130
CATEGORIES:DJ Trivia
ATTACH;FMTTYPE=image/png:https://www.partyprodjs.com/wp-content/uploads/2017/08/lodos.png
END:VEVENT
BEGIN:VEVENT
DTSTART;TZID=UTC:20170911T190000
DTEND;TZID=UTC:20170911T210000
DTSTAMP:20260423T161252
CREATED:20170901T064215Z
LAST-MODIFIED:20170901T065533Z
UID:241-1505156400-1505163600@www.partyprodjs.com
SUMMARY:Music Video Bingo @ Brothers - Lone Tree
DESCRIPTION:Live hosted Music Video Bingo. Free to play! Win great stuff!
URL:https://www.partyprodjs.com/event/music-video-bingo-brothers-lone-tree/
LOCATION:Brothers Bar & Grill – Lone Tree\, 7407 Park Meadows Dr.\, Lone Tree\, CO\, 80129
CATEGORIES:DJ Trivia,Music Video Bingo
ATTACH;FMTTYPE=image/jpeg:https://www.partyprodjs.com/wp-content/uploads/2017/08/brothers-e1507926104215.jpg
END:VEVENT
BEGIN:VEVENT
DTSTART;TZID=UTC:20170911T190000
DTEND;TZID=UTC:20170911T210000
DTSTAMP:20260423T161252
CREATED:20170901T063819Z
LAST-MODIFIED:20170901T063819Z
UID:238-1505156400-1505163600@www.partyprodjs.com
SUMMARY:DJ Trivia @ Misfits
DESCRIPTION:Live Hosted DJ Trivia
URL:https://www.partyprodjs.com/event/dj-trivia-misfits/
LOCATION:CO
CATEGORIES:DJ Trivia
ATTACH;FMTTYPE=image/jpeg:https://www.partyprodjs.com/wp-content/uploads/2017/08/misfits.jpg
END:VEVENT
BEGIN:VEVENT
DTSTART;TZID=UTC:20170911T190000
DTEND;TZID=UTC:20170911T210000
DTSTAMP:20260423T161252
CREATED:20170901T063408Z
LAST-MODIFIED:20170901T065613Z
UID:234-1505156400-1505163600@www.partyprodjs.com
SUMMARY:DJ Trivia @ Grillin' Wings
DESCRIPTION:Live Hosted DJ Trivia
URL:https://www.partyprodjs.com/event/dj-trivia-grillin-wings/
LOCATION:Grillin’ Wings & Things\, 9447 Park Meadows Dr B.\, Lone Tree\, CO\, 80124
CATEGORIES:DJ Trivia
ATTACH;FMTTYPE=image/jpeg:https://www.partyprodjs.com/wp-content/uploads/2017/08/images.jpg
END:VEVENT
BEGIN:VEVENT
DTSTART;TZID=UTC:20170905T190000
DTEND;TZID=UTC:20170905T210000
DTSTAMP:20260423T161252
CREATED:20170902T002916Z
LAST-MODIFIED:20170902T002916Z
UID:333-1504638000-1504645200@www.partyprodjs.com
SUMMARY:DJ Trivia @ BC's Sports Tavern
DESCRIPTION:Live Hosted DJ Trivia
URL:https://www.partyprodjs.com/event/dj-trivia-bcs-sports-tavern-2/
LOCATION:BC’s Sports Pub\, 6501 W Mississippi Ave\, Lakewood\, CO\, 80226
CATEGORIES:DJ Trivia
ATTACH;FMTTYPE=image/jpeg:https://www.partyprodjs.com/wp-content/uploads/2017/08/bcs.jpg
END:VEVENT
BEGIN:VEVENT
DTSTART;TZID=UTC:20170905T190000
DTEND;TZID=UTC:20170905T210000
DTSTAMP:20260423T161252
CREATED:20170902T002657Z
LAST-MODIFIED:20170902T002657Z
UID:331-1504638000-1504645200@www.partyprodjs.com
SUMMARY:DJ Trivia @ Lodo's - Westminster
DESCRIPTION:Live Hosted DJ Trivia
URL:https://www.partyprodjs.com/event/dj-trivia-lodos-westminster-2/
LOCATION:Lodo’s – Westminster\, 3053 West 104th Avenue\, Westminster\, CO\, 80031
CATEGORIES:DJ Trivia
ATTACH;FMTTYPE=image/png:https://www.partyprodjs.com/wp-content/uploads/2017/08/lodos.png
END:VEVENT
BEGIN:VEVENT
DTSTART;TZID=UTC:20170905T190000
DTEND;TZID=UTC:20170905T210000
DTSTAMP:20260423T161252
CREATED:20170902T002523Z
LAST-MODIFIED:20170902T002523Z
UID:329-1504638000-1504645200@www.partyprodjs.com
SUMMARY:DJ Trivia @ Lodo's - Highlands Ranch
DESCRIPTION:Live Hosted DJ Trivia
URL:https://www.partyprodjs.com/event/dj-trivia-lodos-highlands-ranch-2/
LOCATION:Lodo’s – Highlands Ranch\, 8545 South Quebec Street\, Highlands Ranch\, CO\, 80130
CATEGORIES:DJ Trivia
ATTACH;FMTTYPE=image/png:https://www.partyprodjs.com/wp-content/uploads/2017/08/lodos.png
END:VEVENT
BEGIN:VEVENT
DTSTART;TZID=UTC:20170904T190000
DTEND;TZID=UTC:20170904T210000
DTSTAMP:20260423T161252
CREATED:20170902T002335Z
LAST-MODIFIED:20170902T002335Z
UID:327-1504551600-1504558800@www.partyprodjs.com
SUMMARY:DJ Trivia @ Grillin' Wings
DESCRIPTION:Live Hosted DJ Trivia
URL:https://www.partyprodjs.com/event/dj-trivia-grillin-wings-2/
LOCATION:Grillin’ Wings & Things\, 9447 Park Meadows Dr B.\, Lone Tree\, CO\, 80124
CATEGORIES:DJ Trivia
ATTACH;FMTTYPE=image/jpeg:https://www.partyprodjs.com/wp-content/uploads/2017/08/images.jpg
END:VEVENT
END:VCALENDAR