BEGIN:VCALENDAR
VERSION:2.0
PRODID:-// - ECPv6.15.20//NONSGML v1.0//EN
CALSCALE:GREGORIAN
METHOD:PUBLISH
X-ORIGINAL-URL:https://www.partyprodjs.com
X-WR-CALDESC:Events for 
REFRESH-INTERVAL;VALUE=DURATION:PT1H
X-Robots-Tag:noindex
X-PUBLISHED-TTL:PT1H
BEGIN:VTIMEZONE
TZID:UTC
BEGIN:STANDARD
TZOFFSETFROM:+0000
TZOFFSETTO:+0000
TZNAME:UTC
DTSTART:20160101T000000
END:STANDARD
END:VTIMEZONE
BEGIN:VEVENT
DTSTART;TZID=UTC:20171025T190000
DTEND;TZID=UTC:20171025T210000
DTSTAMP:20260423T181415
CREATED:20171026T041224Z
LAST-MODIFIED:20171026T041224Z
UID:387-1508958000-1508965200@www.partyprodjs.com
SUMMARY:Bingo @ The Boardroom
DESCRIPTION:Play BINGO for free every Wednesday. Each bingo gets you a gift card and a chance to win a big screen TV! TV to be given away on November 22.
URL:https://www.partyprodjs.com/event/bingo-the-boardroom/
LOCATION:Boardroom Sportsbar & Steakhouse\, 51 W Dry Creek Ct\, Littleton\, CO\, 80120
CATEGORIES:Bingo
ATTACH;FMTTYPE=image/jpeg:https://www.partyprodjs.com/wp-content/uploads/2017/09/boardroom.jpg
END:VEVENT
END:VCALENDAR